BEGIN:VCALENDAR
VERSION:2.0
PRODID:icalendar-ruby
CALSCALE:GREGORIAN
METHOD:PUBLISH
BEGIN:VEVENT
DTSTAMP:20260425T160431Z
UID:2-483900@harmonyfellowship.org
DTSTART:20261021T223000Z
DTEND:20261022T000000Z
CLASS:PUBLIC
CREATED:20260425T103828
DESCRIPTION:A mid-week time of fellowship\, food\, and Bible study. 
LAST-MODIFIED:20260425T103828
LOCATION:Harmony Fellowship Baptist Church
SUMMARY:Fellowship
URL;VALUE=URI:https://www.harmonyfellowship.org/events/fellowship/2026-10-2
 1
ATTACH;FILENAME=brooke-lark-93583-unsplash.jpg;FMTTYPE=image/jpeg:https://d
 q5pwpg1q8ru0.cloudfront.net/2024/01/29/15/12/18/3a69d526-ab25-4d59-a760-1f
 eeb5e8c368/brooke-lark-93583-unsplash.jpg
END:VEVENT
END:VCALENDAR
